BEGIN:VCALENDAR
VERSION:2.0
PRODID:-//BROCK - ECPv6.15.20//NONSGML v1.0//EN
CALSCALE:GREGORIAN
METHOD:PUBLISH
X-WR-CALNAME:BROCK
X-ORIGINAL-URL:https://bcoaa.com
X-WR-CALDESC:Events for BROCK
REFRESH-INTERVAL;VALUE=DURATION:PT1H
X-Robots-Tag:noindex
X-PUBLISHED-TTL:PT1H
BEGIN:VTIMEZONE
TZID:UTC
BEGIN:STANDARD
TZOFFSETFROM:+0000
TZOFFSETTO:+0000
TZNAME:UTC
DTSTART:20220101T000000
END:STANDARD
END:VTIMEZONE
BEGIN:VEVENT
DTSTART;TZID=UTC:20231020T000000
DTEND;TZID=UTC:20231022T000000
DTSTAMP:20260419T151146
CREATED:20230908T012506Z
LAST-MODIFIED:20230908T012506Z
UID:6256-1697760000-1697932800@bcoaa.com
SUMMARY:National - BROCKTOBER!!
DESCRIPTION:
URL:https://bcoaa.com/event/national-brocktober/
END:VEVENT
END:VCALENDAR