BEGIN:VCALENDAR
VERSION:2.0
PRODID:-//BROCK - ECPv6.15.20//NONSGML v1.0//EN
CALSCALE:GREGORIAN
METHOD:PUBLISH
X-ORIGINAL-URL:https://bcoaa.com
X-WR-CALDESC:Events for BROCK
REFRESH-INTERVAL;VALUE=DURATION:PT1H
X-Robots-Tag:noindex
X-PUBLISHED-TTL:PT1H
BEGIN:VTIMEZONE
TZID:UTC
BEGIN:STANDARD
TZOFFSETFROM:+0000
TZOFFSETTO:+0000
TZNAME:UTC
DTSTART:20230101T000000
END:STANDARD
END:VTIMEZONE
BEGIN:VEVENT
DTSTART;TZID=UTC:20240209T000000
DTEND;TZID=UTC:20240212T000000
DTSTAMP:20260419T123345
CREATED:20240106T021903Z
LAST-MODIFIED:20240106T021903Z
UID:6397-1707436800-1707696000@bcoaa.com
SUMMARY:NSW - Gnoo Blas Classic\, Orange.
DESCRIPTION:
URL:https://bcoaa.com/event/nsw-gnoo-blas-classic-orange/
END:VEVENT
END:VCALENDAR