BEGIN:VCALENDAR
VERSION:2.0
PRODID:-//BROCK - ECPv6.15.20//NONSGML v1.0//EN
CALSCALE:GREGORIAN
METHOD:PUBLISH
X-WR-CALNAME:BROCK
X-ORIGINAL-URL:https://bcoaa.com
X-WR-CALDESC:Events for BROCK
REFRESH-INTERVAL;VALUE=DURATION:PT1H
X-Robots-Tag:noindex
X-PUBLISHED-TTL:PT1H
BEGIN:VTIMEZONE
TZID:UTC
BEGIN:STANDARD
TZOFFSETFROM:+0000
TZOFFSETTO:+0000
TZNAME:UTC
DTSTART:20230101T000000
END:STANDARD
END:VTIMEZONE
BEGIN:VEVENT
DTSTART;TZID=UTC:20240705T080000
DTEND;TZID=UTC:20240707T170000
DTSTAMP:20260419T195001
CREATED:20240609T051437Z
LAST-MODIFIED:20240609T051437Z
UID:6626-1720166400-1720371600@bcoaa.com
SUMMARY:QLD - Historic Queensland - QLD’s Premiere Historic National Race  Meeting. Queensland Raceway Willowbank
DESCRIPTION:
URL:https://bcoaa.com/event/qld-historic-queensland-qlds-premiere-historic-national-race-meeting-queensland-raceway-willowbank/
END:VEVENT
END:VCALENDAR