BEGIN:VCALENDAR
VERSION:2.0
PRODID:-//BROCK - ECPv6.15.20//NONSGML v1.0//EN
CALSCALE:GREGORIAN
METHOD:PUBLISH
X-WR-CALNAME:BROCK
X-ORIGINAL-URL:https://bcoaa.com
X-WR-CALDESC:Events for BROCK
REFRESH-INTERVAL;VALUE=DURATION:PT1H
X-Robots-Tag:noindex
X-PUBLISHED-TTL:PT1H
BEGIN:VTIMEZONE
TZID:UTC
BEGIN:STANDARD
TZOFFSETFROM:+0000
TZOFFSETTO:+0000
TZNAME:UTC
DTSTART:20240101T000000
END:STANDARD
END:VTIMEZONE
BEGIN:VEVENT
DTSTART;TZID=UTC:20250307T000000
DTEND;TZID=UTC:20250309T000000
DTSTAMP:20260420T150012
CREATED:20250208T094706Z
LAST-MODIFIED:20250208T095024Z
UID:6815-1741305600-1741478400@bcoaa.com
SUMMARY:VIC -  Phillip Island Historics.
DESCRIPTION:
URL:https://bcoaa.com/event/vic-phillip-island-historics-2/
END:VEVENT
END:VCALENDAR