BEGIN:VCALENDAR
VERSION:2.0
PRODID:-//BROCK - ECPv6.15.20//NONSGML v1.0//EN
CALSCALE:GREGORIAN
METHOD:PUBLISH
X-ORIGINAL-URL:https://bcoaa.com
X-WR-CALDESC:Events for BROCK
REFRESH-INTERVAL;VALUE=DURATION:PT1H
X-Robots-Tag:noindex
X-PUBLISHED-TTL:PT1H
BEGIN:VTIMEZONE
TZID:UTC
BEGIN:STANDARD
TZOFFSETFROM:+0000
TZOFFSETTO:+0000
TZNAME:UTC
DTSTART:20220101T000000
END:STANDARD
END:VTIMEZONE
BEGIN:VEVENT
DTSTART;TZID=UTC:20231116T200000
DTEND;TZID=UTC:20231116T200000
DTSTAMP:20260420T030415
CREATED:20231107T042835Z
LAST-MODIFIED:20231107T042835Z
UID:6291-1700164800-1700164800@bcoaa.com
SUMMARY:Annual General Meeting. To be held at Shannons premises\, 40 Corporate Drive  Heatherton\, 7.30pm for 8pm start.
DESCRIPTION:
URL:https://bcoaa.com/event/annual-general-meeting-to-be-held-at-shannons-premises-40-corporate-drive-heatherton-7-30pm-for-8pm-start/
END:VEVENT
BEGIN:VEVENT
DTSTART;TZID=UTC:20231119T000000
DTEND;TZID=UTC:20231119T000000
DTSTAMP:20260420T030415
CREATED:20231107T042939Z
LAST-MODIFIED:20231107T042939Z
UID:6293-1700352000-1700352000@bcoaa.com
SUMMARY:QLD - Visit to Brisbane Motor Museum (959 Nudgee Rd\, Banyo) followed by lunch.
DESCRIPTION:Arrive at 10am to inspect the exhibits and then have lunch at the Brisbane Motor Café. Please let\nTrevor know if you are coming so that he can book at the café.
URL:https://bcoaa.com/event/qld-visit-to-brisbane-motor-museum-959-nudgee-rd-banyo-followed-by-lunch/
END:VEVENT
BEGIN:VEVENT
DTSTART;TZID=UTC:20231124T000000
DTEND;TZID=UTC:20231124T000000
DTSTAMP:20260420T030415
CREATED:20231107T043037Z
LAST-MODIFIED:20231107T043037Z
UID:6295-1700784000-1700784000@bcoaa.com
SUMMARY:QLD - Just 8s BBQ and Gas Bag: Last Friday of the month at Bowden’s Own premises - 2 Milieu Pl\, Warana QLD 4575
DESCRIPTION:
URL:https://bcoaa.com/event/qld-just-8s-bbq-and-gas-bag-last-friday-of-the-month-at-bowdens-own-premises-2-milieu-pl-warana-qld-4575/
END:VEVENT
BEGIN:VEVENT
DTSTART;TZID=UTC:20231202T000000
DTEND;TZID=UTC:20231202T000000
DTSTAMP:20260420T030415
CREATED:20231107T043138Z
LAST-MODIFIED:20231107T043138Z
UID:6297-1701475200-1701475200@bcoaa.com
SUMMARY:NSW - Brett Gray tribute run
DESCRIPTION:Meeting place and time tba; we will be driving via the\nWollongong region and heading up Macquarie Pass for lunch at the Robertson Hotel. Please\nRSVP to Phil as he will need to confirm numbers with the hotel.
URL:https://bcoaa.com/event/nsw-brett-gray-tribute-run/
END:VEVENT
BEGIN:VEVENT
DTSTART;TZID=UTC:20231202T000000
DTEND;TZID=UTC:20231202T000000
DTSTAMP:20260420T030415
CREATED:20231107T043337Z
LAST-MODIFIED:20231107T043337Z
UID:6301-1701475200-1701475200@bcoaa.com
SUMMARY:QLD - Christmas function.
DESCRIPTION:Something special this year! Tom and Cheryl Venderreyden are hosting a BBQ lunch and an\nopportunity to tour Tom’s shed at Mt Cotton in Brisbane. Please contact me for the address and to\nprovide numbers for catering.
URL:https://bcoaa.com/event/qld-christmas-function/
END:VEVENT
BEGIN:VEVENT
DTSTART;TZID=UTC:20231210T000000
DTEND;TZID=UTC:20231210T000000
DTSTAMP:20260420T030415
CREATED:20231107T043220Z
LAST-MODIFIED:20231107T043220Z
UID:6299-1702166400-1702166400@bcoaa.com
SUMMARY:VIC - John Harvey memorial run/Christmas celebration. Venue and time TBA.
DESCRIPTION:
URL:https://bcoaa.com/event/vic-john-harvey-memorial-run-christmas-celebration-venue-and-time-tba/
END:VEVENT
BEGIN:VEVENT
DTSTART;TZID=UTC:20231229T000000
DTEND;TZID=UTC:20231229T000000
DTSTAMP:20260420T030415
CREATED:20231107T043417Z
LAST-MODIFIED:20231107T043417Z
UID:6303-1703808000-1703808000@bcoaa.com
SUMMARY:QLD - - Just 8s BBQ and Gas Bag: Last Friday of the month at Bowden’s Own premises - 2 Milieu Pl\, Warana QLD 4575
DESCRIPTION:
URL:https://bcoaa.com/event/qld-just-8s-bbq-and-gas-bag-last-friday-of-the-month-at-bowdens-own-premises-2-milieu-pl-warana-qld-4575-2/
END:VEVENT
BEGIN:VEVENT
DTSTART;TZID=UTC:20240103T000000
DTEND;TZID=UTC:20240103T000000
DTSTAMP:20260420T030415
CREATED:20231209T042338Z
LAST-MODIFIED:20231209T042338Z
UID:6371-1704240000-1704240000@bcoaa.com
SUMMARY:NSW - Club meeting\, Silverwater Hotel. Bring your Brock night.
DESCRIPTION:
URL:https://bcoaa.com/event/nsw-club-meeting-silverwater-hotel-bring-your-brock-night/
END:VEVENT
BEGIN:VEVENT
DTSTART;TZID=UTC:20240113T000000
DTEND;TZID=UTC:20240113T000000
DTSTAMP:20260420T030415
CREATED:20231209T042428Z
LAST-MODIFIED:20231209T042428Z
UID:6373-1705104000-1705104000@bcoaa.com
SUMMARY:NSW - Patonga Beach twilight run.
DESCRIPTION:
URL:https://bcoaa.com/event/nsw-patonga-beach-twilight-run/
END:VEVENT
BEGIN:VEVENT
DTSTART;TZID=UTC:20240121T000000
DTEND;TZID=UTC:20240121T000000
DTSTAMP:20260420T030415
CREATED:20240106T021501Z
LAST-MODIFIED:20240106T021501Z
UID:6393-1705795200-1705795200@bcoaa.com
SUMMARY:VIC - Lunch run to Salt Water Pizza\, Newhaven Jetty\, 2 Beach Cres Newhaven.
DESCRIPTION:
URL:https://bcoaa.com/event/vic-lunch-run-to-salt-water-pizza-newhaven-jetty-2-beach-cres-newhaven/
END:VEVENT
BEGIN:VEVENT
DTSTART;TZID=UTC:20240126T000000
DTEND;TZID=UTC:20240126T000000
DTSTAMP:20260420T030415
CREATED:20231209T042551Z
LAST-MODIFIED:20231209T042551Z
UID:6375-1706227200-1706227200@bcoaa.com
SUMMARY:QLD - Just 8s BBQ and Gas Bag
DESCRIPTION:Just 8s BBQ and Gas Bag: Last Friday of the month at Bowden’s Own premises – 2\nMilieu Pl\, Warana QLD 4575
URL:https://bcoaa.com/event/qld-just-8s-bbq-and-gas-bag-8/
END:VEVENT
BEGIN:VEVENT
DTSTART;TZID=UTC:20240203T000000
DTEND;TZID=UTC:20240203T000000
DTSTAMP:20260420T030415
CREATED:20240106T022514Z
LAST-MODIFIED:20240106T022514Z
UID:6407-1706918400-1706918400@bcoaa.com
SUMMARY:QLD - Cars and Coffee Coolum
DESCRIPTION:
URL:https://bcoaa.com/event/qld-cars-and-coffee-coolum/
END:VEVENT
BEGIN:VEVENT
DTSTART;TZID=UTC:20240204T000000
DTEND;TZID=UTC:20240204T000000
DTSTAMP:20260420T030415
CREATED:20240106T022157Z
LAST-MODIFIED:20240106T022247Z
UID:6401-1707004800-1707004800@bcoaa.com
SUMMARY:VIC - Classic Aussie Car Show\, Mornington Racecourse (Racecourse Rd\, Mornington).
DESCRIPTION:
URL:https://bcoaa.com/event/vic-classic-aussie-car-show-mornington-racecourse-racecourse-rd-mornington/
END:VEVENT
BEGIN:VEVENT
DTSTART;TZID=UTC:20240207T000000
DTEND;TZID=UTC:20240207T000000
DTSTAMP:20260420T030415
CREATED:20240106T021715Z
LAST-MODIFIED:20240106T021744Z
UID:6395-1707264000-1707264000@bcoaa.com
SUMMARY:NSW - Club meeting\, Silverwater Hotel
DESCRIPTION:
URL:https://bcoaa.com/event/nsw-club-meeting-silverwater-hotel-6/
END:VEVENT
BEGIN:VEVENT
DTSTART;TZID=UTC:20240208T000000
DTEND;TZID=UTC:20240208T000000
DTSTAMP:20260420T030415
CREATED:20240106T022326Z
LAST-MODIFIED:20240106T022326Z
UID:6403-1707350400-1707350400@bcoaa.com
SUMMARY:VIC - Club meeting\, Shannons premises Heatherton. 7.30 for 8pm start.
DESCRIPTION:
URL:https://bcoaa.com/event/vic-club-meeting-shannons-premises-heatherton-7-30-for-8pm-start/
END:VEVENT
BEGIN:VEVENT
DTSTART;TZID=UTC:20240209T000000
DTEND;TZID=UTC:20240212T000000
DTSTAMP:20260420T030415
CREATED:20240106T021903Z
LAST-MODIFIED:20240106T021903Z
UID:6397-1707436800-1707696000@bcoaa.com
SUMMARY:NSW - Gnoo Blas Classic\, Orange.
DESCRIPTION:
URL:https://bcoaa.com/event/nsw-gnoo-blas-classic-orange/
END:VEVENT
BEGIN:VEVENT
DTSTART;TZID=UTC:20240211T000000
DTEND;TZID=UTC:20240211T000000
DTSTAMP:20260420T030415
CREATED:20240106T022423Z
LAST-MODIFIED:20240106T022423Z
UID:6405-1707609600-1707609600@bcoaa.com
SUMMARY:VIC - Picnic at Hanging Rock.
DESCRIPTION:
URL:https://bcoaa.com/event/vic-picnic-at-hanging-rock/
END:VEVENT
BEGIN:VEVENT
DTSTART;TZID=UTC:20240217T000000
DTEND;TZID=UTC:20240217T000000
DTSTAMP:20260420T030415
CREATED:20240106T021942Z
LAST-MODIFIED:20240106T021942Z
UID:6399-1708128000-1708128000@bcoaa.com
SUMMARY:NSW - Gerringong Car Show.
DESCRIPTION:
URL:https://bcoaa.com/event/nsw-gerringong-car-show/
END:VEVENT
BEGIN:VEVENT
DTSTART;TZID=UTC:20240217T000000
DTEND;TZID=UTC:20240218T000000
DTSTAMP:20260420T030415
CREATED:20240106T022619Z
LAST-MODIFIED:20240106T022619Z
UID:6409-1708128000-1708214400@bcoaa.com
SUMMARY:QLD - HRCC Morgan Park TTT – Warwick
DESCRIPTION:
URL:https://bcoaa.com/event/qld-hrcc-morgan-park-ttt-warwick/
END:VEVENT
BEGIN:VEVENT
DTSTART;TZID=UTC:20240224T000000
DTEND;TZID=UTC:20240224T000000
DTSTAMP:20260420T030415
CREATED:20240106T022726Z
LAST-MODIFIED:20240106T022726Z
UID:6411-1708732800-1708732800@bcoaa.com
SUMMARY:QLD - Just 8s BBQ and Gas Bag
DESCRIPTION:
URL:https://bcoaa.com/event/qld-just-8s-bbq-and-gas-bag-11/
END:VEVENT
BEGIN:VEVENT
DTSTART;TZID=UTC:20240225T000000
DTEND;TZID=UTC:20240225T000000
DTSTAMP:20260420T030415
CREATED:20240106T022807Z
LAST-MODIFIED:20240106T022807Z
UID:6413-1708819200-1708819200@bcoaa.com
SUMMARY:QLD - Cruise\, meet and eat (Rick’s Garage Palmwoods)
DESCRIPTION:
URL:https://bcoaa.com/event/qld-cruise-meet-and-eat-ricks-garage-palmwoods/
END:VEVENT
BEGIN:VEVENT
DTSTART;TZID=UTC:20240225T000000
DTEND;TZID=UTC:20240225T000000
DTSTAMP:20260420T030415
CREATED:20240203T043508Z
LAST-MODIFIED:20240203T043508Z
UID:6461-1708819200-1708819200@bcoaa.com
SUMMARY:QLD – Cruise\, meet and eat (Rick’s Garage Palmwoods)
DESCRIPTION:
URL:https://bcoaa.com/event/qld-cruise-meet-and-eat-ricks-garage-palmwoods-2/
END:VEVENT
BEGIN:VEVENT
DTSTART;TZID=UTC:20240302T000000
DTEND;TZID=UTC:20240302T000000
DTSTAMP:20260420T030415
CREATED:20240203T043115Z
LAST-MODIFIED:20240203T043115Z
UID:6457-1709337600-1709337600@bcoaa.com
SUMMARY:QLD - Cars and Coffee Coolum
DESCRIPTION:
URL:https://bcoaa.com/event/qld-cars-and-coffee-coolum-2/
END:VEVENT
BEGIN:VEVENT
DTSTART;TZID=UTC:20240306T000000
DTEND;TZID=UTC:20240306T000000
DTSTAMP:20260420T030415
CREATED:20240203T042917Z
LAST-MODIFIED:20240203T042917Z
UID:6453-1709683200-1709683200@bcoaa.com
SUMMARY:NSW - Club meeting\, Silverwater Hotel
DESCRIPTION:
URL:https://bcoaa.com/event/nsw-club-meeting-silverwater-hotel-10/
END:VEVENT
BEGIN:VEVENT
DTSTART;TZID=UTC:20240308T000000
DTEND;TZID=UTC:20240310T000000
DTSTAMP:20260420T030415
CREATED:20240203T043030Z
LAST-MODIFIED:20240203T043030Z
UID:6455-1709856000-1710028800@bcoaa.com
SUMMARY:Phillip Island Historics.
DESCRIPTION:
URL:https://bcoaa.com/event/phillip-island-historics-2/
END:VEVENT
BEGIN:VEVENT
DTSTART;TZID=UTC:20240309T000000
DTEND;TZID=UTC:20240309T000000
DTSTAMP:20260420T030415
CREATED:20240306T095128Z
LAST-MODIFIED:20240306T095128Z
UID:6484-1709942400-1709942400@bcoaa.com
SUMMARY:VIC - Winton Raceway/Hi-Tec Oils Super Series Season Launch & Winton Open Day.
DESCRIPTION:
URL:https://bcoaa.com/event/vic-winton-raceway-hi-tec-oils-super-series-season-launch-winton-open-day/
END:VEVENT
BEGIN:VEVENT
DTSTART;TZID=UTC:20240329T000000
DTEND;TZID=UTC:20240329T000000
DTSTAMP:20260420T030415
CREATED:20240306T095213Z
LAST-MODIFIED:20240306T095213Z
UID:6486-1711670400-1711670400@bcoaa.com
SUMMARY:QLD - Just 8s BBQ and Gas Bag
DESCRIPTION:
URL:https://bcoaa.com/event/qld-just-8s-bbq-and-gas-bag-13/
END:VEVENT
BEGIN:VEVENT
DTSTART;TZID=UTC:20240403T000000
DTEND;TZID=UTC:20240403T000000
DTSTAMP:20260420T030415
CREATED:20240306T095336Z
LAST-MODIFIED:20240306T095336Z
UID:6488-1712102400-1712102400@bcoaa.com
SUMMARY:NSW - Club meeting\, Silverwater Hotel. Guest speaker is Neil Crompton
DESCRIPTION:
URL:https://bcoaa.com/event/nsw-club-meeting-silverwater-hotel-guest-speaker-is-neil-crompton/
END:VEVENT
BEGIN:VEVENT
DTSTART;TZID=UTC:20240406T000000
DTEND;TZID=UTC:20240406T000000
DTSTAMP:20260420T030415
CREATED:20240306T095627Z
LAST-MODIFIED:20240306T095627Z
UID:6496-1712361600-1712361600@bcoaa.com
SUMMARY:QLD - Cars and Coffee Coolum
DESCRIPTION:
URL:https://bcoaa.com/event/qld-cars-and-coffee-coolum-3/
END:VEVENT
BEGIN:VEVENT
DTSTART;TZID=UTC:20240411T000000
DTEND;TZID=UTC:20240411T000000
DTSTAMP:20260420T030415
CREATED:20240306T095500Z
LAST-MODIFIED:20240306T095500Z
UID:6492-1712793600-1712793600@bcoaa.com
SUMMARY:VIC - Club meeting\, Shannons premises Heatherton. 7.30 for 8pm start.
DESCRIPTION:
URL:https://bcoaa.com/event/vic-club-meeting-shannons-premises-heatherton-7-30-for-8pm-start-2/
END:VEVENT
END:VCALENDAR