BEGIN:VCALENDAR
VERSION:2.0
PRODID:-//BROCK - ECPv6.15.20//NONSGML v1.0//EN
CALSCALE:GREGORIAN
METHOD:PUBLISH
X-ORIGINAL-URL:https://bcoaa.com
X-WR-CALDESC:Events for BROCK
REFRESH-INTERVAL;VALUE=DURATION:PT1H
X-Robots-Tag:noindex
X-PUBLISHED-TTL:PT1H
BEGIN:VTIMEZONE
TZID:UTC
BEGIN:STANDARD
TZOFFSETFROM:+0000
TZOFFSETTO:+0000
TZNAME:UTC
DTSTART:20220101T000000
END:STANDARD
END:VTIMEZONE
BEGIN:VEVENT
DTSTART;TZID=UTC:20231110T000000
DTEND;TZID=UTC:20231113T000000
DTSTAMP:20260419T122424
CREATED:20231107T042730Z
LAST-MODIFIED:20231107T042730Z
UID:6289-1699574400-1699833600@bcoaa.com
SUMMARY:Vic - Sandown Historics. Display passes are available from Andrew
DESCRIPTION:
URL:https://bcoaa.com/event/vic-sandown-historics-display-passes-are-available-from-andrew/
END:VEVENT
BEGIN:VEVENT
DTSTART;TZID=UTC:20231116T200000
DTEND;TZID=UTC:20231116T200000
DTSTAMP:20260419T122424
CREATED:20231107T042835Z
LAST-MODIFIED:20231107T042835Z
UID:6291-1700164800-1700164800@bcoaa.com
SUMMARY:Annual General Meeting. To be held at Shannons premises\, 40 Corporate Drive  Heatherton\, 7.30pm for 8pm start.
DESCRIPTION:
URL:https://bcoaa.com/event/annual-general-meeting-to-be-held-at-shannons-premises-40-corporate-drive-heatherton-7-30pm-for-8pm-start/
END:VEVENT
BEGIN:VEVENT
DTSTART;TZID=UTC:20231119T000000
DTEND;TZID=UTC:20231119T000000
DTSTAMP:20260419T122424
CREATED:20231107T042939Z
LAST-MODIFIED:20231107T042939Z
UID:6293-1700352000-1700352000@bcoaa.com
SUMMARY:QLD - Visit to Brisbane Motor Museum (959 Nudgee Rd\, Banyo) followed by lunch.
DESCRIPTION:Arrive at 10am to inspect the exhibits and then have lunch at the Brisbane Motor Café. Please let\nTrevor know if you are coming so that he can book at the café.
URL:https://bcoaa.com/event/qld-visit-to-brisbane-motor-museum-959-nudgee-rd-banyo-followed-by-lunch/
END:VEVENT
BEGIN:VEVENT
DTSTART;TZID=UTC:20231124T000000
DTEND;TZID=UTC:20231124T000000
DTSTAMP:20260419T122424
CREATED:20231107T043037Z
LAST-MODIFIED:20231107T043037Z
UID:6295-1700784000-1700784000@bcoaa.com
SUMMARY:QLD - Just 8s BBQ and Gas Bag: Last Friday of the month at Bowden’s Own premises - 2 Milieu Pl\, Warana QLD 4575
DESCRIPTION:
URL:https://bcoaa.com/event/qld-just-8s-bbq-and-gas-bag-last-friday-of-the-month-at-bowdens-own-premises-2-milieu-pl-warana-qld-4575/
END:VEVENT
END:VCALENDAR