BEGIN:VCALENDAR
VERSION:2.0
PRODID:-//BROCK - ECPv6.15.20//NONSGML v1.0//EN
CALSCALE:GREGORIAN
METHOD:PUBLISH
X-WR-CALNAME:BROCK
X-ORIGINAL-URL:https://bcoaa.com
X-WR-CALDESC:Events for BROCK
REFRESH-INTERVAL;VALUE=DURATION:PT1H
X-Robots-Tag:noindex
X-PUBLISHED-TTL:PT1H
BEGIN:VTIMEZONE
TZID:UTC
BEGIN:STANDARD
TZOFFSETFROM:+0000
TZOFFSETTO:+0000
TZNAME:UTC
DTSTART:20230101T000000
END:STANDARD
END:VTIMEZONE
BEGIN:VEVENT
DTSTART;TZID=UTC:20240504T070000
DTEND;TZID=UTC:20240504T100000
DTSTAMP:20260419T152451
CREATED:20240407T000533Z
LAST-MODIFIED:20240407T000533Z
UID:6554-1714806000-1714816800@bcoaa.com
SUMMARY:QLD - Cars and Coffee Coolum
DESCRIPTION:
URL:https://bcoaa.com/event/qld-cars-and-coffee-coolum-4/
END:VEVENT
BEGIN:VEVENT
DTSTART;TZID=UTC:20240519T000000
DTEND;TZID=UTC:20240519T000000
DTSTAMP:20260419T152451
CREATED:20240407T000215Z
LAST-MODIFIED:20240407T000215Z
UID:6548-1716076800-1716076800@bcoaa.com
SUMMARY:VIC - Lunch run to Trentham
DESCRIPTION:
URL:https://bcoaa.com/event/vic-lunch-run-to-trentham/
END:VEVENT
BEGIN:VEVENT
DTSTART;TZID=UTC:20240519T000000
DTEND;TZID=UTC:20240519T000000
DTSTAMP:20260419T152451
CREATED:20240407T000707Z
LAST-MODIFIED:20240407T000707Z
UID:6556-1716076800-1716076800@bcoaa.com
SUMMARY:QLD - David Hack Classic\, Toowoomba
DESCRIPTION:
URL:https://bcoaa.com/event/qld-david-hack-classic-toowoomba/
END:VEVENT
BEGIN:VEVENT
DTSTART;TZID=UTC:20240524T000000
DTEND;TZID=UTC:20240526T000000
DTSTAMP:20260419T152451
CREATED:20240407T000100Z
LAST-MODIFIED:20240407T000100Z
UID:6546-1716508800-1716681600@bcoaa.com
SUMMARY:NSW - Run to Nambucca Heads/Macksville\, in conjunction with the Qld  chapter
DESCRIPTION:
URL:https://bcoaa.com/event/nsw-run-to-nambucca-heads-macksville-in-conjunction-with-the-qld-chapter/
END:VEVENT
BEGIN:VEVENT
DTSTART;TZID=UTC:20240524T000000
DTEND;TZID=UTC:20240526T000000
DTSTAMP:20260419T152451
CREATED:20240407T000817Z
LAST-MODIFIED:20240407T000817Z
UID:6558-1716508800-1716681600@bcoaa.com
SUMMARY:QLD - Run to Nambucca Heads/Macksville\, in conjunction with the NSW chapter.
DESCRIPTION:
URL:https://bcoaa.com/event/qld-run-to-nambucca-heads-macksville-in-conjunction-with-the-nsw-chapter/
END:VEVENT
BEGIN:VEVENT
DTSTART;TZID=UTC:20240525T000000
DTEND;TZID=UTC:20240526T000000
DTSTAMP:20260419T152451
CREATED:20240407T000401Z
LAST-MODIFIED:20240407T000401Z
UID:6551-1716595200-1716681600@bcoaa.com
SUMMARY:VIC - Historic Winton
DESCRIPTION:
URL:https://bcoaa.com/event/vic-historic-winton/
END:VEVENT
BEGIN:VEVENT
DTSTART;TZID=UTC:20240531T000000
DTEND;TZID=UTC:20240531T000000
DTSTAMP:20260419T152451
CREATED:20240407T001003Z
LAST-MODIFIED:20240407T001003Z
UID:6560-1717113600-1717113600@bcoaa.com
SUMMARY:QLD - Just 8s BBQ and Gas Bag
DESCRIPTION:
URL:https://bcoaa.com/event/qld-just-8s-bbq-and-gas-bag-12/
END:VEVENT
END:VCALENDAR