BEGIN:VCALENDAR
VERSION:2.0
PRODID:-//BROCK - ECPv6.15.20//NONSGML v1.0//EN
CALSCALE:GREGORIAN
METHOD:PUBLISH
X-ORIGINAL-URL:https://bcoaa.com
X-WR-CALDESC:Events for BROCK
REFRESH-INTERVAL;VALUE=DURATION:PT1H
X-Robots-Tag:noindex
X-PUBLISHED-TTL:PT1H
BEGIN:VTIMEZONE
TZID:UTC
BEGIN:STANDARD
TZOFFSETFROM:+0000
TZOFFSETTO:+0000
TZNAME:UTC
DTSTART:20230101T000000
END:STANDARD
END:VTIMEZONE
BEGIN:VEVENT
DTSTART;TZID=UTC:20240703T000000
DTEND;TZID=UTC:20240703T000000
DTSTAMP:20260419T183112
CREATED:20240609T051140Z
LAST-MODIFIED:20240609T051140Z
UID:6620-1719964800-1719964800@bcoaa.com
SUMMARY:NSW – Club meeting\, Silverwater Hotel
DESCRIPTION:
URL:https://bcoaa.com/event/nsw-club-meeting-silverwater-hotel-13/
END:VEVENT
BEGIN:VEVENT
DTSTART;TZID=UTC:20240705T080000
DTEND;TZID=UTC:20240707T170000
DTSTAMP:20260419T183112
CREATED:20240609T051437Z
LAST-MODIFIED:20240609T051437Z
UID:6626-1720166400-1720371600@bcoaa.com
SUMMARY:QLD - Historic Queensland - QLD’s Premiere Historic National Race  Meeting. Queensland Raceway Willowbank
DESCRIPTION:
URL:https://bcoaa.com/event/qld-historic-queensland-qlds-premiere-historic-national-race-meeting-queensland-raceway-willowbank/
END:VEVENT
BEGIN:VEVENT
DTSTART;TZID=UTC:20240706T000000
DTEND;TZID=UTC:20240706T000000
DTSTAMP:20260419T183112
CREATED:20240609T051338Z
LAST-MODIFIED:20240609T051338Z
UID:6624-1720224000-1720224000@bcoaa.com
SUMMARY:QLD - Cars and Coffee Coolum
DESCRIPTION:
URL:https://bcoaa.com/event/qld-cars-and-coffee-coolum-6/
END:VEVENT
BEGIN:VEVENT
DTSTART;TZID=UTC:20240726T000000
DTEND;TZID=UTC:20240726T000000
DTSTAMP:20260419T183112
CREATED:20240609T051544Z
LAST-MODIFIED:20240609T051544Z
UID:6628-1721952000-1721952000@bcoaa.com
SUMMARY:QLD - Just 8s BBQ and Gas Bag
DESCRIPTION:
URL:https://bcoaa.com/event/qld-just-8s-bbq-and-gas-bag-16/
END:VEVENT
BEGIN:VEVENT
DTSTART;TZID=UTC:20240728T000000
DTEND;TZID=UTC:20240728T000000
DTSTAMP:20260419T183112
CREATED:20240609T051233Z
LAST-MODIFIED:20240609T051233Z
UID:6622-1722124800-1722124800@bcoaa.com
SUMMARY:VIC - Christmas in July lunch at the Pig & Whistle\, Olinda.
DESCRIPTION:
URL:https://bcoaa.com/event/vic-christmas-in-july-lunch-at-the-pig-whistle-olinda/
END:VEVENT
END:VCALENDAR