BEGIN:VCALENDAR
VERSION:2.0
PRODID:-//BROCK - ECPv6.15.20//NONSGML v1.0//EN
CALSCALE:GREGORIAN
METHOD:PUBLISH
X-WR-CALNAME:BROCK
X-ORIGINAL-URL:https://bcoaa.com
X-WR-CALDESC:Events for BROCK
REFRESH-INTERVAL;VALUE=DURATION:PT1H
X-Robots-Tag:noindex
X-PUBLISHED-TTL:PT1H
BEGIN:VTIMEZONE
TZID:UTC
BEGIN:STANDARD
TZOFFSETFROM:+0000
TZOFFSETTO:+0000
TZNAME:UTC
DTSTART:20230101T000000
END:STANDARD
END:VTIMEZONE
BEGIN:VEVENT
DTSTART;TZID=UTC:20240803T000000
DTEND;TZID=UTC:20240803T000000
DTSTAMP:20260419T195023
CREATED:20240706T045528Z
LAST-MODIFIED:20240706T045528Z
UID:6649-1722643200-1722643200@bcoaa.com
SUMMARY:QLD - Cars and Coffee Coolum
DESCRIPTION:
URL:https://bcoaa.com/event/qld-cars-and-coffee-coolum-7/
END:VEVENT
BEGIN:VEVENT
DTSTART;TZID=UTC:20240803T080000
DTEND;TZID=UTC:20240804T170000
DTSTAMP:20260419T195023
CREATED:20240706T045211Z
LAST-MODIFIED:20240706T045211Z
UID:6645-1722672000-1722790800@bcoaa.com
SUMMARY:VIC - Winton Festival of Speed
DESCRIPTION:
URL:https://bcoaa.com/event/vic-winton-festival-of-speed/
END:VEVENT
BEGIN:VEVENT
DTSTART;TZID=UTC:20240804T000000
DTEND;TZID=UTC:20240804T000000
DTSTAMP:20260419T195023
CREATED:20240706T044848Z
LAST-MODIFIED:20240706T044848Z
UID:6641-1722729600-1722729600@bcoaa.com
SUMMARY:NSW - All Holden Day
DESCRIPTION:
URL:https://bcoaa.com/event/nsw-all-holden-day-4/
END:VEVENT
BEGIN:VEVENT
DTSTART;TZID=UTC:20240807T000000
DTEND;TZID=UTC:20240807T000000
DTSTAMP:20260419T195023
CREATED:20240706T045046Z
LAST-MODIFIED:20240706T045046Z
UID:6643-1722988800-1722988800@bcoaa.com
SUMMARY:NSW - Club meeting\, Silverwater Hotel
DESCRIPTION:
URL:https://bcoaa.com/event/nsw-club-meeting-silverwater-hotel-14/
END:VEVENT
BEGIN:VEVENT
DTSTART;TZID=UTC:20240808T000000
DTEND;TZID=UTC:20240808T000000
DTSTAMP:20260419T195023
CREATED:20240706T045336Z
LAST-MODIFIED:20240706T045336Z
UID:6647-1723075200-1723075200@bcoaa.com
SUMMARY:VIC - Club meeting\, Shannons premises\, Corporate Drive Heatherton. 7.30pm for 8pm  start.
DESCRIPTION:
URL:https://bcoaa.com/event/vic-club-meeting-shannons-premises-corporate-drive-heatherton-7-30pm-for-8pm-start/
END:VEVENT
BEGIN:VEVENT
DTSTART;TZID=UTC:20240817T080000
DTEND;TZID=UTC:20240818T170000
DTSTAMP:20260419T195023
CREATED:20240706T045706Z
LAST-MODIFIED:20240706T045706Z
UID:6651-1723881600-1724000400@bcoaa.com
SUMMARY:QLD - – Leyburn Sprints.
DESCRIPTION:
URL:https://bcoaa.com/event/qld-leyburn-sprints/
END:VEVENT
BEGIN:VEVENT
DTSTART;TZID=UTC:20240830T000000
DTEND;TZID=UTC:20240830T000000
DTSTAMP:20260419T195023
CREATED:20240706T045855Z
LAST-MODIFIED:20240706T045855Z
UID:6653-1724976000-1724976000@bcoaa.com
SUMMARY:QLD - - Just 8s BBQ and Gas Bag:
DESCRIPTION:
URL:https://bcoaa.com/event/qld-just-8s-bbq-and-gas-bag-17/
END:VEVENT
END:VCALENDAR