BEGIN:VCALENDAR
VERSION:2.0
PRODID:-//BROCK - ECPv6.15.20//NONSGML v1.0//EN
CALSCALE:GREGORIAN
METHOD:PUBLISH
X-ORIGINAL-URL:https://bcoaa.com
X-WR-CALDESC:Events for BROCK
REFRESH-INTERVAL;VALUE=DURATION:PT1H
X-Robots-Tag:noindex
X-PUBLISHED-TTL:PT1H
BEGIN:VTIMEZONE
TZID:UTC
BEGIN:STANDARD
TZOFFSETFROM:+0000
TZOFFSETTO:+0000
TZNAME:UTC
DTSTART:20230101T000000
END:STANDARD
END:VTIMEZONE
BEGIN:VEVENT
DTSTART;TZID=UTC:20241002T000000
DTEND;TZID=UTC:20241002T000000
DTSTAMP:20260419T231008
CREATED:20240908T064216Z
LAST-MODIFIED:20240908T064216Z
UID:6692-1727827200-1727827200@bcoaa.com
SUMMARY:NSW - Club meeting\, Silverwater Hotel
DESCRIPTION:
URL:https://bcoaa.com/event/nsw-club-meeting-silverwater-hotel-16/
END:VEVENT
BEGIN:VEVENT
DTSTART;TZID=UTC:20241005T000000
DTEND;TZID=UTC:20241005T000000
DTSTAMP:20260419T231008
CREATED:20240908T064331Z
LAST-MODIFIED:20240908T064331Z
UID:6694-1728086400-1728086400@bcoaa.com
SUMMARY:QLD : Cars and Coffee Coolum: When: This event is held the first Saturday of every month from 7am – 10am. (check Facebook for regular updates on events in case of changes to dates or times).
DESCRIPTION:
URL:https://bcoaa.com/event/qld-cars-and-coffee-coolum-when-this-event-is-held-the-first-saturday-of-every-month-from-7am-10am-check-facebook-for-regular-updates-on-events-in-case-of-changes-to-dates-or-times/
END:VEVENT
BEGIN:VEVENT
DTSTART;TZID=UTC:20241025T000000
DTEND;TZID=UTC:20241025T000000
DTSTAMP:20260419T231008
CREATED:20240908T064449Z
LAST-MODIFIED:20240908T064449Z
UID:6696-1729814400-1729814400@bcoaa.com
SUMMARY:QLD: Just 8s BBQ and Gas Bag:
DESCRIPTION:
URL:https://bcoaa.com/event/qld-just-8s-bbq-and-gas-bag-19/
END:VEVENT
BEGIN:VEVENT
DTSTART;TZID=UTC:20241025T000000
DTEND;TZID=UTC:20241028T170000
DTSTAMP:20260419T231008
CREATED:20240908T064059Z
LAST-MODIFIED:20240908T064059Z
UID:6690-1729814400-1730134800@bcoaa.com
SUMMARY:National - Brocktober: Brocks in the Barossa! Yes\, Brocktober is less than two months away now\, and John\, Ash and the SA crew have a cracker of a weekend planned!
DESCRIPTION:
URL:https://bcoaa.com/event/national-brocktober-brocks-in-the-barossa-yes-brocktober-is-less-than-two-months-away-now-and-john-ash-and-the-sa-crew-have-a-cracker-of-a-weekend-planned/
END:VEVENT
END:VCALENDAR