BEGIN:VCALENDAR
VERSION:2.0
PRODID:-//BROCK - ECPv6.15.20//NONSGML v1.0//EN
CALSCALE:GREGORIAN
METHOD:PUBLISH
X-WR-CALNAME:BROCK
X-ORIGINAL-URL:https://bcoaa.com
X-WR-CALDESC:Events for BROCK
REFRESH-INTERVAL;VALUE=DURATION:PT1H
X-Robots-Tag:noindex
X-PUBLISHED-TTL:PT1H
BEGIN:VTIMEZONE
TZID:UTC
BEGIN:STANDARD
TZOFFSETFROM:+0000
TZOFFSETTO:+0000
TZNAME:UTC
DTSTART:20240101T000000
END:STANDARD
END:VTIMEZONE
BEGIN:VEVENT
DTSTART;TZID=UTC:20250108T000000
DTEND;TZID=UTC:20250108T000000
DTSTAMP:20260420T103147
CREATED:20241221T025353Z
LAST-MODIFIED:20241221T025353Z
UID:6746-1736294400-1736294400@bcoaa.com
SUMMARY:NSW - Club meeting/Bring your Brock night\, Silverwater Hotel.
DESCRIPTION:
URL:https://bcoaa.com/event/nsw-club-meeting-bring-your-brock-night-silverwater-hotel/
END:VEVENT
BEGIN:VEVENT
DTSTART;TZID=UTC:20250111T000000
DTEND;TZID=UTC:20250111T000000
DTSTAMP:20260420T103147
CREATED:20241221T025540Z
LAST-MODIFIED:20241221T025540Z
UID:6748-1736553600-1736553600@bcoaa.com
SUMMARY:NSW - Twilight run to Patonga Beach Hotel. Meet at Thornleigh Maccas at 4pm for 4.30pm departure.
DESCRIPTION:
URL:https://bcoaa.com/event/nsw-twilight-run-to-patonga-beach-hotel-meet-at-thornleigh-maccas-at-4pm-for-4-30pm-departure/
END:VEVENT
BEGIN:VEVENT
DTSTART;TZID=UTC:20250119T000000
DTEND;TZID=UTC:20250119T000000
DTSTAMP:20260420T103147
CREATED:20241221T025744Z
LAST-MODIFIED:20241221T025744Z
UID:6750-1737244800-1737244800@bcoaa.com
SUMMARY:VIC -  Lunch run to Salt Water Pizza\, Newhaven Jetty\, 2 Beach Cres  Newhaven. Further details TBA.
DESCRIPTION:
URL:https://bcoaa.com/event/vic-lunch-run-to-salt-water-pizza-newhaven-jetty-2-beach-cres-newhaven-further-details-tba/
END:VEVENT
BEGIN:VEVENT
DTSTART;TZID=UTC:20250119T000000
DTEND;TZID=UTC:20250119T000000
DTSTAMP:20260420T103147
CREATED:20241221T025958Z
LAST-MODIFIED:20241221T025958Z
UID:6752-1737244800-1737244800@bcoaa.com
SUMMARY:QLD - Witta Wheels\, at the Witta Recreation Club. Please contact Trevor for  further information.
DESCRIPTION:
URL:https://bcoaa.com/event/qld-witta-wheels-at-the-witta-recreation-club-please-contact-trevor-for-further-information-2/
END:VEVENT
END:VCALENDAR