BEGIN:VCALENDAR
VERSION:2.0
PRODID:-//BROCK - ECPv6.15.20//NONSGML v1.0//EN
CALSCALE:GREGORIAN
METHOD:PUBLISH
X-WR-CALNAME:BROCK
X-ORIGINAL-URL:https://bcoaa.com
X-WR-CALDESC:Events for BROCK
REFRESH-INTERVAL;VALUE=DURATION:PT1H
X-Robots-Tag:noindex
X-PUBLISHED-TTL:PT1H
BEGIN:VTIMEZONE
TZID:UTC
BEGIN:STANDARD
TZOFFSETFROM:+0000
TZOFFSETTO:+0000
TZNAME:UTC
DTSTART:20240101T000000
END:STANDARD
END:VTIMEZONE
BEGIN:VEVENT
DTSTART;TZID=UTC:20250803T000000
DTEND;TZID=UTC:20250803T000000
DTSTAMP:20260420T204939
CREATED:20250709T093711Z
LAST-MODIFIED:20250709T093711Z
UID:6914-1754179200-1754179200@bcoaa.com
SUMMARY:NSW - All Holden Day. Entries are still open\, but will need to be made ASAP  if you plan on attending.
DESCRIPTION:
URL:https://bcoaa.com/event/nsw-all-holden-day-entries-are-still-open-but-will-need-to-be-made-asap-if-you-plan-on-attending/
END:VEVENT
BEGIN:VEVENT
DTSTART;TZID=UTC:20250806T000000
DTEND;TZID=UTC:20250806T000000
DTSTAMP:20260420T204939
CREATED:20250709T093819Z
LAST-MODIFIED:20250709T093819Z
UID:6916-1754438400-1754438400@bcoaa.com
SUMMARY:NSW - Club meeting\, Silverwater Hotel
DESCRIPTION:
URL:https://bcoaa.com/event/nsw-club-meeting-silverwater-hotel-25/
END:VEVENT
BEGIN:VEVENT
DTSTART;TZID=UTC:20250814T000000
DTEND;TZID=UTC:20250814T000000
DTSTAMP:20260420T204939
CREATED:20250709T094011Z
LAST-MODIFIED:20250709T094011Z
UID:6918-1755129600-1755129600@bcoaa.com
SUMMARY:VIC - Club meeting\, Shannons premises\, 40 Corporate Drive\, Heatherton. 7.30pm for 8.00pm start.
DESCRIPTION:
URL:https://bcoaa.com/event/vic-club-meeting-shannons-premises-40-corporate-drive-heatherton-7-30pm-for-8-00pm-start/
END:VEVENT
BEGIN:VEVENT
DTSTART;TZID=UTC:20250817T000000
DTEND;TZID=UTC:20250817T000000
DTSTAMP:20260420T204939
CREATED:20250709T094057Z
LAST-MODIFIED:20250709T094057Z
UID:6920-1755388800-1755388800@bcoaa.com
SUMMARY:QLD - Witta Wheels\, at the Witta Recreation Club. Please contact Trevor for further information.
DESCRIPTION:
URL:https://bcoaa.com/event/qld-witta-wheels-at-the-witta-recreation-club-please-contact-trevor-for-further-information-3/
END:VEVENT
BEGIN:VEVENT
DTSTART;TZID=UTC:20250823T000000
DTEND;TZID=UTC:20250824T000000
DTSTAMP:20260420T204939
CREATED:20250709T094145Z
LAST-MODIFIED:20250709T094145Z
UID:6922-1755907200-1755993600@bcoaa.com
SUMMARY:QLD - Leyburn Sprints.
DESCRIPTION:
URL:https://bcoaa.com/event/qld-leyburn-sprints-2/
END:VEVENT
END:VCALENDAR