BEGIN:VCALENDAR
VERSION:2.0
PRODID:-//BROCK - ECPv6.15.20//NONSGML v1.0//EN
CALSCALE:GREGORIAN
METHOD:PUBLISH
X-WR-CALNAME:BROCK
X-ORIGINAL-URL:https://bcoaa.com
X-WR-CALDESC:Events for BROCK
REFRESH-INTERVAL;VALUE=DURATION:PT1H
X-Robots-Tag:noindex
X-PUBLISHED-TTL:PT1H
BEGIN:VTIMEZONE
TZID:UTC
BEGIN:STANDARD
TZOFFSETFROM:+0000
TZOFFSETTO:+0000
TZNAME:UTC
DTSTART:20240101T000000
END:STANDARD
END:VTIMEZONE
BEGIN:VEVENT
DTSTART;TZID=UTC:20250903T000000
DTEND;TZID=UTC:20250903T000000
DTSTAMP:20260420T221232
CREATED:20250810T053338Z
LAST-MODIFIED:20250810T053338Z
UID:6929-1756857600-1756857600@bcoaa.com
SUMMARY:NSW - Club meeting\, Silverwater Hotel
DESCRIPTION:
URL:https://bcoaa.com/event/nsw-club-meeting-silverwater-hotel-26/
END:VEVENT
BEGIN:VEVENT
DTSTART;TZID=UTC:20250907T000000
DTEND;TZID=UTC:20250907T000000
DTSTAMP:20260420T221232
CREATED:20250810T053410Z
LAST-MODIFIED:20250810T053410Z
UID:6931-1757203200-1757203200@bcoaa.com
SUMMARY:QLD - Drive Your Brock Day\, in remembrance of the passing of Peter Brock 18 years ago (actual anniversary Monday 8th)
DESCRIPTION:
URL:https://bcoaa.com/event/qld-drive-your-brock-day-in-remembrance-of-the-passing-of-peter-brock-18-years-ago-actual-anniversary-monday-8th/
END:VEVENT
BEGIN:VEVENT
DTSTART;TZID=UTC:20250921T000000
DTEND;TZID=UTC:20250921T000000
DTSTAMP:20260420T221232
CREATED:20250810T053448Z
LAST-MODIFIED:20250810T053448Z
UID:6933-1758412800-1758412800@bcoaa.com
SUMMARY:QLD - Witta Wheels\, at the Witta Recreation Club.
DESCRIPTION:
URL:https://bcoaa.com/event/qld-witta-wheels-at-the-witta-recreation-club-8/
END:VEVENT
END:VCALENDAR